BEGIN:VCALENDAR
VERSION:2.0
PRODID:-//Atlético Dallas - ECPv6.15.17.1//NONSGML v1.0//EN
CALSCALE:GREGORIAN
METHOD:PUBLISH
X-ORIGINAL-URL:https://www.atleticodallas.com
X-WR-CALDESC:Events for Atlético Dallas
REFRESH-INTERVAL;VALUE=DURATION:PT1H
X-Robots-Tag:noindex
X-PUBLISHED-TTL:PT1H
BEGIN:VTIMEZONE
TZID:America/Chicago
BEGIN:DAYLIGHT
TZOFFSETFROM:-0600
TZOFFSETTO:-0500
TZNAME:CDT
DTSTART:20240310T080000
END:DAYLIGHT
BEGIN:STANDARD
TZOFFSETFROM:-0500
TZOFFSETTO:-0600
TZNAME:CST
DTSTART:20241103T070000
END:STANDARD
BEGIN:DAYLIGHT
TZOFFSETFROM:-0600
TZOFFSETTO:-0500
TZNAME:CDT
DTSTART:20250309T080000
END:DAYLIGHT
BEGIN:STANDARD
TZOFFSETFROM:-0500
TZOFFSETTO:-0600
TZNAME:CST
DTSTART:20251102T070000
END:STANDARD
BEGIN:DAYLIGHT
TZOFFSETFROM:-0600
TZOFFSETTO:-0500
TZNAME:CDT
DTSTART:20260308T080000
END:DAYLIGHT
BEGIN:STANDARD
TZOFFSETFROM:-0500
TZOFFSETTO:-0600
TZNAME:CST
DTSTART:20261101T070000
END:STANDARD
END:VTIMEZONE
BEGIN:VEVENT
DTSTART;TZID=America/Chicago:20251010T090000
DTEND;TZID=America/Chicago:20251010T113000
DTSTAMP:20260421T033207
CREATED:20251008T195613Z
LAST-MODIFIED:20251008T195934Z
UID:10000020-1760086800-1760095800@www.atleticodallas.com
SUMMARY:Youth Soccer Camp - Richardson
DESCRIPTION:Join us for our Fall Break Soccer Camps! Our Soccer Camps are for serious players who are hungry to take their game to the next level.\n\n\n\n\nField Players of all ages and abilities can join us and train in a structured environment with our team of certified coaches. \nAll players are expected to be willing to listen\, learn\, work hard\, and be pushed out of your comfort zone. Our goal is for your players to leave our camp with new knowledge and confidence to play their best on the field. \nWhere: Soccer Spectrum | 1251 Digital Dr. Richardson\, TX 75081When: Two Sessions Available: Friday\, October 10 & Monday\, October 13Time: 9:00 AM – 11:30 AM\nAges: Boys & Girls 7 – 16 (Field Players Only)
URL:https://www.atleticodallas.com/event/youth-soccer-camp-richardson/2025-10-10/
LOCATION:Soccer Spectrum\, 1251 Digital Drive\, Richardson\, TX\, 75081\, United States
CATEGORIES:Youth
ATTACH;FMTTYPE=image/png:https://www.atleticodallas.com/wp-content/uploads/sites/353/2025/10/Richardson-Fall-Camp.png
ORGANIZER;CN="Atl%C3%A9tico Dallas Youth":MAILTO:Info@AtleticoDallasYouth.com
END:VEVENT
BEGIN:VEVENT
DTSTART;TZID=America/Chicago:20251010T090000
DTEND;TZID=America/Chicago:20251010T113000
DTSTAMP:20260421T033207
CREATED:20251008T200245Z
LAST-MODIFIED:20251008T200245Z
UID:10000022-1760086800-1760095800@www.atleticodallas.com
SUMMARY:Youth Soccer Camp - Waco
DESCRIPTION:Join us for our Fall Break Soccer Camps! Our Soccer Camps are for serious players who are hungry to take their game to the next level.\n\n\n\n\nField Players of all ages and abilities can join us and train in a structured environment with our team of certified coaches. \nAll players are expected to be willing to listen\, learn\, work hard\, and be pushed out of your comfort zone. Our goal is for your players to leave our camp with new knowledge and confidence to play their best on the field. \nWhere: 8 Acres | 8400 Mars Dr. Woodway\, TX 76712When: Oct 10 – Oct 11Time: 9:00 AM – 11:30 AM\nAges: Boys & Girls 5 – 17 (Field Players Only)
URL:https://www.atleticodallas.com/event/youth-soccer-camp-waco/2025-10-10/
LOCATION:8 Acres\, 8400 Mars Dr.\, Woodway\, TX\, 76712\, United States
CATEGORIES:Youth
ATTACH;FMTTYPE=image/png:https://www.atleticodallas.com/wp-content/uploads/sites/353/2025/10/CTX-Fall-Camp.png
ORGANIZER;CN="Atl%C3%A9tico Dallas Youth":MAILTO:Info@AtleticoDallasYouth.com
END:VEVENT
BEGIN:VEVENT
DTSTART;TZID=America/Chicago:20251010T090000
DTEND;TZID=America/Chicago:20251010T113000
DTSTAMP:20260421T033207
CREATED:20251008T200840Z
LAST-MODIFIED:20251008T200840Z
UID:10000024-1760086800-1760095800@www.atleticodallas.com
SUMMARY:Youth Soccer Camp - Midlothian
DESCRIPTION:Join us for our Fall Break Soccer Camps! Our Soccer Camps are for serious players who are hungry to take their game to the next level.\n\n\n\n\nField Players of all ages and abilities can join us and train in a structured environment with our team of certified coaches. \nAll players are expected to be willing to listen\, learn\, work hard\, and be pushed out of your comfort zone. Our goal is for your players to leave our camp with new knowledge and confidence to play their best on the field. \nWhere: Ellis County Outdoorsman Church | 4370 Joe Wilson RD. Midlothian\, TXWhen: Two Sessions Available: Friday\, October 10 & Monday\, October 13Time: 9:00 AM – 11:30 AM\nAges: Boys & Girls 7 – 16 (Field Players Only)
URL:https://www.atleticodallas.com/event/youth-soccer-camp-midlothian/2025-10-10/
LOCATION:Ellis County Outdoorsman Church\, 4370 Joe Wilson Rd\, Midlothian\, TX\, 76065\, United States
CATEGORIES:Youth
ATTACH;FMTTYPE=image/png:https://www.atleticodallas.com/wp-content/uploads/sites/353/2025/10/South-DFW-Camp.png
ORGANIZER;CN="Atl%C3%A9tico Dallas Youth":MAILTO:Info@AtleticoDallasYouth.com
END:VEVENT
BEGIN:VEVENT
DTSTART;TZID=America/Chicago:20251010T193000
DTEND;TZID=America/Chicago:20251010T213000
DTSTAMP:20260421T033207
CREATED:20251008T202400Z
LAST-MODIFIED:20251013T180602Z
UID:10000026-1760124600-1760131800@www.atleticodallas.com
SUMMARY:USMNT Watch Party with The American Outlaws
DESCRIPTION:Where: Peticolas Brewing Company | 1301 Pace St\, Dallas\, TX 75207\, United StatesWhen: Friday\, Oct 10Time: 7:30PM – 9:30PM \nJoin Atlético Dallas\, the American Outlaws Dallas chapter\, and fellow USMNT supporters for an electric night of soccer\, beer\, and red\, white & blue pride! We’re taking over Peticolas Brewing Company as the U.S. Men’s National Team faces off in a friendly against Ecuador. \nExpect great beer\, passionate fans\, chants\, and plenty of team spirit. Whether you’re a longtime Outlaw or new to the squad\, all are welcome to cheer on the Stars and Stripes! \nWear your USA gear\, bring your friends\, and let’s pack the house.
URL:https://www.atleticodallas.com/event/usmnt-watch-party-with-the-american-outlaws/
LOCATION:Peticolas Brewing Company\, 1301 Pace St\, Dallas\, TX\, 75207\, United States
CATEGORIES:Watch Party
ATTACH;FMTTYPE=image/jpeg:https://www.atleticodallas.com/wp-content/uploads/sites/353/2025/10/USMNT-vs-ECUADOR.jpg
END:VEVENT
BEGIN:VEVENT
DTSTART;TZID=America/Chicago:20251010T200000
DTEND;TZID=America/Chicago:20251010T230000
DTSTAMP:20260421T033207
CREATED:20251008T191340Z
LAST-MODIFIED:20251008T191627Z
UID:10000018-1760126400-1760137200@www.atleticodallas.com
SUMMARY:Caldwell Elementary Haunted House
DESCRIPTION:🎃 Join Us at Cucuy Nights\, A Spooktacular Family Fundraiser! 👻 \nWe’re excited to be part of Cucuy Nights\, Caldwell Elementary’s annual haunted house fundraiser\, supporting local students and bringing the community together for some fright-filled fun! \nCome see us on October 10 from 8PM to 11PM! Whether you’re in it for the spooky thrills or just the tasty eats\, there’s something for everyone. \nBring your friends\, bring your family\, and help support a great cause. Costumes encouraged! \nWhere: Caldwell Elementary | 2020 Saturn Rd\, Garland\, TX 75041\, United StatesWhen: Friday\, October 10Time: 8:00 PM – 11:00 PM
URL:https://www.atleticodallas.com/event/caldwell-elementary-haunted-house/
LOCATION:Caldwell Elementary\, 2020 Saturn Rd\, Garland\, TX\, 75041\, United States
CATEGORIES:Family
ATTACH;FMTTYPE=image/jpeg:https://www.atleticodallas.com/wp-content/uploads/sites/353/2025/10/IMG_20251008_132111.jpg
END:VEVENT
BEGIN:VEVENT
DTSTART;TZID=America/Chicago:20251011T090000
DTEND;TZID=America/Chicago:20251011T113000
DTSTAMP:20260421T033207
CREATED:20251008T200245Z
LAST-MODIFIED:20251008T200245Z
UID:10000023-1760173200-1760182200@www.atleticodallas.com
SUMMARY:Youth Soccer Camp - Waco
DESCRIPTION:Join us for our Fall Break Soccer Camps! Our Soccer Camps are for serious players who are hungry to take their game to the next level.\n\n\n\n\nField Players of all ages and abilities can join us and train in a structured environment with our team of certified coaches. \nAll players are expected to be willing to listen\, learn\, work hard\, and be pushed out of your comfort zone. Our goal is for your players to leave our camp with new knowledge and confidence to play their best on the field. \nWhere: 8 Acres | 8400 Mars Dr. Woodway\, TX 76712When: Oct 10 – Oct 11Time: 9:00 AM – 11:30 AM\nAges: Boys & Girls 5 – 17 (Field Players Only)
URL:https://www.atleticodallas.com/event/youth-soccer-camp-waco/2025-10-11/
LOCATION:8 Acres\, 8400 Mars Dr.\, Woodway\, TX\, 76712\, United States
CATEGORIES:Youth
ATTACH;FMTTYPE=image/png:https://www.atleticodallas.com/wp-content/uploads/sites/353/2025/10/CTX-Fall-Camp.png
ORGANIZER;CN="Atl%C3%A9tico Dallas Youth":MAILTO:Info@AtleticoDallasYouth.com
END:VEVENT
BEGIN:VEVENT
DTSTART;TZID=America/Chicago:20251013T090000
DTEND;TZID=America/Chicago:20251013T113000
DTSTAMP:20260421T033207
CREATED:20251008T195613Z
LAST-MODIFIED:20251008T195934Z
UID:10000021-1760346000-1760355000@www.atleticodallas.com
SUMMARY:Youth Soccer Camp - Richardson
DESCRIPTION:Join us for our Fall Break Soccer Camps! Our Soccer Camps are for serious players who are hungry to take their game to the next level.\n\n\n\n\nField Players of all ages and abilities can join us and train in a structured environment with our team of certified coaches. \nAll players are expected to be willing to listen\, learn\, work hard\, and be pushed out of your comfort zone. Our goal is for your players to leave our camp with new knowledge and confidence to play their best on the field. \nWhere: Soccer Spectrum | 1251 Digital Dr. Richardson\, TX 75081When: Two Sessions Available: Friday\, October 10 & Monday\, October 13Time: 9:00 AM – 11:30 AM\nAges: Boys & Girls 7 – 16 (Field Players Only)
URL:https://www.atleticodallas.com/event/youth-soccer-camp-richardson/2025-10-13/
LOCATION:Soccer Spectrum\, 1251 Digital Drive\, Richardson\, TX\, 75081\, United States
CATEGORIES:Youth
ATTACH;FMTTYPE=image/png:https://www.atleticodallas.com/wp-content/uploads/sites/353/2025/10/Richardson-Fall-Camp.png
ORGANIZER;CN="Atl%C3%A9tico Dallas Youth":MAILTO:Info@AtleticoDallasYouth.com
END:VEVENT
BEGIN:VEVENT
DTSTART;TZID=America/Chicago:20251013T090000
DTEND;TZID=America/Chicago:20251013T113000
DTSTAMP:20260421T033207
CREATED:20251008T200840Z
LAST-MODIFIED:20251008T200840Z
UID:10000025-1760346000-1760355000@www.atleticodallas.com
SUMMARY:Youth Soccer Camp - Midlothian
DESCRIPTION:Join us for our Fall Break Soccer Camps! Our Soccer Camps are for serious players who are hungry to take their game to the next level.\n\n\n\n\nField Players of all ages and abilities can join us and train in a structured environment with our team of certified coaches. \nAll players are expected to be willing to listen\, learn\, work hard\, and be pushed out of your comfort zone. Our goal is for your players to leave our camp with new knowledge and confidence to play their best on the field. \nWhere: Ellis County Outdoorsman Church | 4370 Joe Wilson RD. Midlothian\, TXWhen: Two Sessions Available: Friday\, October 10 & Monday\, October 13Time: 9:00 AM – 11:30 AM\nAges: Boys & Girls 7 – 16 (Field Players Only)
URL:https://www.atleticodallas.com/event/youth-soccer-camp-midlothian/2025-10-13/
LOCATION:Ellis County Outdoorsman Church\, 4370 Joe Wilson Rd\, Midlothian\, TX\, 76065\, United States
CATEGORIES:Youth
ATTACH;FMTTYPE=image/png:https://www.atleticodallas.com/wp-content/uploads/sites/353/2025/10/South-DFW-Camp.png
ORGANIZER;CN="Atl%C3%A9tico Dallas Youth":MAILTO:Info@AtleticoDallasYouth.com
END:VEVENT
BEGIN:VEVENT
DTSTART;TZID=America/Chicago:20251018T100000
DTEND;TZID=America/Chicago:20251018T150000
DTSTAMP:20260421T033207
CREATED:20251013T182442Z
LAST-MODIFIED:20251013T182442Z
UID:10000027-1760781600-1760799600@www.atleticodallas.com
SUMMARY:Wheels of Hope Classic Car Show
DESCRIPTION:  \n \nJoin the Atlético Dallas street team at the 10th Annual Wheels of Hope Classic Car Show in Downtown Garland on the Square. The event will be Saturday\, October 18 from 10:00 AM – 3:00 PM. Atlético Dallas will be there to support this event\, which benefits Hope Clinic in Garland.   \nGreat Cars! Great Music! Great Event! Fun for the entire family! Free Admission! \nSpecial guest performance by BEATLEGRAS  \nThere will also be a special visit from NASCAR veteran Joe Nemechek! Make plans to come by and meet this racing legend. \n 
URL:https://www.atleticodallas.com/event/wheels-of-hope-classic-car-show/
LOCATION:Garland Square\, 520 W State St\, Garland\, TX\, 75040\, United States
CATEGORIES:Family
END:VEVENT
BEGIN:VEVENT
DTSTART;TZID=America/Chicago:20251024T090000
DTEND;TZID=America/Chicago:20251024T100000
DTSTAMP:20260421T033207
CREATED:20251016T194449Z
LAST-MODIFIED:20251016T194449Z
UID:10000029-1761296400-1761300000@www.atleticodallas.com
SUMMARY:Little Lobos Open Play
DESCRIPTION:Join the fun on the pitch to see if our program is a good fit for you and your family. We foster confidence and bravery on the field\, encouraging players to grow outside of their comfort zone.  \n​Our approach to coaching new players emphasizes technical mastery\, building social skills\, athleticism\, and most importantly\, having fun and loving the game. Players of all backgrounds and skill levels can thrive in our program. \nWe’re committed to cultivating players who will excel in the future of the game and Little Lobos is the first step of the process.
URL:https://www.atleticodallas.com/event/little-lobos-open-play-3/
LOCATION:Ellis County Outdoorsman Church\, 4370 Joe Wilson Rd\, Midlothian\, TX\, 76065\, United States
CATEGORIES:Little Lobos
ATTACH;FMTTYPE=image/png:https://www.atleticodallas.com/wp-content/uploads/sites/353/2025/10/OctNewsletter_LittleLobosOpenPlay.png
ORGANIZER;CN="Atl%C3%A9tico Dallas Youth":MAILTO:Info@AtleticoDallasYouth.com
END:VEVENT
BEGIN:VEVENT
DTSTART;TZID=America/Chicago:20251025T160000
DTEND;TZID=America/Chicago:20251025T230000
DTSTAMP:20260421T033207
CREATED:20251014T213202Z
LAST-MODIFIED:20251014T213648Z
UID:10000028-1761408000-1761433200@www.atleticodallas.com
SUMMARY:Dallas Dia De Los Muertos
DESCRIPTION:The 6th Annual Dallas Dia de los Muertos Parade and Festival\, Presented by Reliant\, is an exciting tradition for the City of Dallas. With this heartfelt parade\, it is our mission to celebrate the living and honor our beloved. \nNo matter who you are\, no matter where you are from\, we want you to attend the parade and festival. If there is something we all share is the love and grief for our family and friends who left us\, and in this Dia de los Muertos\, we are all one. \nThis historic parade and festival will begin and end at Dallas City Hall\, from 4-11pm\, while the parade is from 7-8pm. Join us for an evening filled with live music\, a beautiful parade\, delicious concessions\, fun arts & crafts\, and so much more! \nAs we celebrate life\, some of our respected leaders of Dallas will be honored for their service to this great city. \nFor those that want to participate in the Parade\, we do ask for your attire to be authentic\, full of pageantry and beauty. While this is a celebration\, we want to keep the tradition as it is meant to be\, and to have fun in a safe environment for all the adults and children that will be joining us. With that being said we humbly reserve the right to deny entrance. \nThis parade will be open to any and all participants that want to join us in celebration. \nPlease join us for a day filled with celebration of culture\, life\, death\, and love! \nLocated at Dallas City Hall
URL:https://www.atleticodallas.com/event/dallas-dia-de-los-muertos/
LOCATION:TX
CATEGORIES:Family
ATTACH;FMTTYPE=image/jpeg:https://www.atleticodallas.com/wp-content/uploads/sites/353/2025/10/https___cdn.evbuc_.com_images_1107953423_314946667562_1_original.jpeg
END:VEVENT
BEGIN:VEVENT
DTSTART;TZID=America/Chicago:20251027T080000
DTEND;TZID=America/Chicago:20251027T170000
DTSTAMP:20260421T033207
CREATED:20251113T035051Z
LAST-MODIFIED:20251113T035051Z
UID:10000035-1761552000-1761584400@www.atleticodallas.com
SUMMARY:El Chiquilin Swing For The Future Golf Tournament
DESCRIPTION:Golf tournament benefiting Los Primos. A 501 (c) (3) non-profit mentoring organization that connects Latino youth with professionals.
URL:https://www.atleticodallas.com/event/el-chiquilin-swing-for-the-future-golf-tournament/
LOCATION:Brookhaven Country Club\, 3333 Golfing Green Dr\, Farmers Branch\, TX\, United States
CATEGORIES:Community
END:VEVENT
BEGIN:VEVENT
DTSTART;TZID=America/Chicago:20251031T110000
DTEND;TZID=America/Chicago:20251031T143000
DTSTAMP:20260421T033207
CREATED:20251113T034347Z
LAST-MODIFIED:20251113T034347Z
UID:10000034-1761908400-1761921000@www.atleticodallas.com
SUMMARY:UNT Sports & Entertainment Symposium & Career Fair
DESCRIPTION:
URL:https://www.atleticodallas.com/event/unt-sports-entertainment-symposium-career-fair/
LOCATION:AT&T Stadium\, 1 AT&T Way\, Arlington\, TX\, United States
END:VEVENT
END:VCALENDAR