BEGIN:VCALENDAR
VERSION:2.0
PRODID:-//Atlético Dallas - ECPv6.15.17.1//NONSGML v1.0//EN
CALSCALE:GREGORIAN
METHOD:PUBLISH
X-ORIGINAL-URL:https://www.atleticodallas.com
X-WR-CALDESC:Events for Atlético Dallas
REFRESH-INTERVAL;VALUE=DURATION:PT1H
X-Robots-Tag:noindex
X-PUBLISHED-TTL:PT1H
BEGIN:VTIMEZONE
TZID:America/Chicago
BEGIN:DAYLIGHT
TZOFFSETFROM:-0600
TZOFFSETTO:-0500
TZNAME:CDT
DTSTART:20240310T080000
END:DAYLIGHT
BEGIN:STANDARD
TZOFFSETFROM:-0500
TZOFFSETTO:-0600
TZNAME:CST
DTSTART:20241103T070000
END:STANDARD
BEGIN:DAYLIGHT
TZOFFSETFROM:-0600
TZOFFSETTO:-0500
TZNAME:CDT
DTSTART:20250309T080000
END:DAYLIGHT
BEGIN:STANDARD
TZOFFSETFROM:-0500
TZOFFSETTO:-0600
TZNAME:CST
DTSTART:20251102T070000
END:STANDARD
BEGIN:DAYLIGHT
TZOFFSETFROM:-0600
TZOFFSETTO:-0500
TZNAME:CDT
DTSTART:20260308T080000
END:DAYLIGHT
BEGIN:STANDARD
TZOFFSETFROM:-0500
TZOFFSETTO:-0600
TZNAME:CST
DTSTART:20261101T070000
END:STANDARD
BEGIN:DAYLIGHT
TZOFFSETFROM:-0600
TZOFFSETTO:-0500
TZNAME:CDT
DTSTART:20270314T080000
END:DAYLIGHT
BEGIN:STANDARD
TZOFFSETFROM:-0500
TZOFFSETTO:-0600
TZNAME:CST
DTSTART:20271107T070000
END:STANDARD
END:VTIMEZONE
BEGIN:VEVENT
DTSTART;TZID=America/Chicago:20260328T183000
DTEND;TZID=America/Chicago:20260328T200000
DTSTAMP:20260421T075816
CREATED:20260326T194942Z
LAST-MODIFIED:20260326T194942Z
UID:10000066-1774722600-1774728000@www.atleticodallas.com
SUMMARY:Mexico vs Portugal Watch Party
DESCRIPTION:
URL:https://www.atleticodallas.com/event/mexico-vs-portugal-watch-party/
LOCATION:Four Corners Brewing Co.\, 1311 S Ervay St.\, Dallas\, TX\, 75215\, United States
CATEGORIES:Watch Party
END:VEVENT
BEGIN:VEVENT
DTSTART;TZID=America/Chicago:20251205T100000
DTEND;TZID=America/Chicago:20251205T140000
DTSTAMP:20260421T075816
CREATED:20251125T173700Z
LAST-MODIFIED:20251125T173700Z
UID:10000041-1764928800-1764943200@www.atleticodallas.com
SUMMARY:FIFA World Cup Draw Party
DESCRIPTION:The North Texas FWC Organizing Committee\, in partnership with Visit Fort Worth\, has given us an opportunity to be a part of the Official FIFA World Cup Draw Party Experience\, coming up on Friday\, December 5th from 10am – 2pm at Billy Bob’s Texas in Fort Worth.
URL:https://www.atleticodallas.com/event/fifa-world-cup-draw-party/
LOCATION:Billy Bob’s Texas\, 2520 Rodeo Plaza\, Fort Worth\, TX\, 76164\, United States
CATEGORIES:Watch Party
ATTACH;FMTTYPE=image/png:https://www.atleticodallas.com/wp-content/uploads/sites/353/2025/11/Screenshot-2025-11-25-at-11.36.29 AM.png
END:VEVENT
BEGIN:VEVENT
DTSTART;TZID=America/Chicago:20251010T193000
DTEND;TZID=America/Chicago:20251010T213000
DTSTAMP:20260421T075816
CREATED:20251008T202400Z
LAST-MODIFIED:20251013T180602Z
UID:10000026-1760124600-1760131800@www.atleticodallas.com
SUMMARY:USMNT Watch Party with The American Outlaws
DESCRIPTION:Where: Peticolas Brewing Company | 1301 Pace St\, Dallas\, TX 75207\, United StatesWhen: Friday\, Oct 10Time: 7:30PM – 9:30PM \nJoin Atlético Dallas\, the American Outlaws Dallas chapter\, and fellow USMNT supporters for an electric night of soccer\, beer\, and red\, white & blue pride! We’re taking over Peticolas Brewing Company as the U.S. Men’s National Team faces off in a friendly against Ecuador. \nExpect great beer\, passionate fans\, chants\, and plenty of team spirit. Whether you’re a longtime Outlaw or new to the squad\, all are welcome to cheer on the Stars and Stripes! \nWear your USA gear\, bring your friends\, and let’s pack the house.
URL:https://www.atleticodallas.com/event/usmnt-watch-party-with-the-american-outlaws/
LOCATION:Peticolas Brewing Company\, 1301 Pace St\, Dallas\, TX\, 75207\, United States
CATEGORIES:Watch Party
ATTACH;FMTTYPE=image/jpeg:https://www.atleticodallas.com/wp-content/uploads/sites/353/2025/10/USMNT-vs-ECUADOR.jpg
END:VEVENT
END:VCALENDAR