BEGIN:VCALENDAR
VERSION:2.0
PRODID:-//Atlético Dallas - ECPv6.15.17.1//NONSGML v1.0//EN
CALSCALE:GREGORIAN
METHOD:PUBLISH
X-WR-CALNAME:Atlético Dallas
X-ORIGINAL-URL:https://www.atleticodallas.com
X-WR-CALDESC:Events for Atlético Dallas
REFRESH-INTERVAL;VALUE=DURATION:PT1H
X-Robots-Tag:noindex
X-PUBLISHED-TTL:PT1H
BEGIN:VTIMEZONE
TZID:America/Chicago
BEGIN:DAYLIGHT
TZOFFSETFROM:-0600
TZOFFSETTO:-0500
TZNAME:CDT
DTSTART:20240310T080000
END:DAYLIGHT
BEGIN:STANDARD
TZOFFSETFROM:-0500
TZOFFSETTO:-0600
TZNAME:CST
DTSTART:20241103T070000
END:STANDARD
BEGIN:DAYLIGHT
TZOFFSETFROM:-0600
TZOFFSETTO:-0500
TZNAME:CDT
DTSTART:20250309T080000
END:DAYLIGHT
BEGIN:STANDARD
TZOFFSETFROM:-0500
TZOFFSETTO:-0600
TZNAME:CST
DTSTART:20251102T070000
END:STANDARD
BEGIN:DAYLIGHT
TZOFFSETFROM:-0600
TZOFFSETTO:-0500
TZNAME:CDT
DTSTART:20260308T080000
END:DAYLIGHT
BEGIN:STANDARD
TZOFFSETFROM:-0500
TZOFFSETTO:-0600
TZNAME:CST
DTSTART:20261101T070000
END:STANDARD
BEGIN:DAYLIGHT
TZOFFSETFROM:-0600
TZOFFSETTO:-0500
TZNAME:CDT
DTSTART:20270314T080000
END:DAYLIGHT
BEGIN:STANDARD
TZOFFSETFROM:-0500
TZOFFSETTO:-0600
TZNAME:CST
DTSTART:20271107T070000
END:STANDARD
END:VTIMEZONE
BEGIN:VEVENT
DTSTART;TZID=America/Chicago:20260203T090000
DTEND;TZID=America/Chicago:20260203T100000
DTSTAMP:20260421T092330
CREATED:20260129T220802Z
LAST-MODIFIED:20260129T220802Z
UID:10000057-1770109200-1770112800@www.atleticodallas.com
SUMMARY:Little Lobos Open Play
DESCRIPTION:Boys & GirlsAges 2 – 5February 3rd | 9:00 AM | FREE​@ Soccer Spectrum1251 Digital Dr\, Richardson\, TX 75081Come join a session and see why little lobos is the right fit for your little player!​Limited spots availableOpen to all players in the community
URL:https://www.atleticodallas.com/event/little-lobos-open-play-5/
LOCATION:Soccer Spectrum\, 1251 Digital Drive\, Richardson\, TX\, 75081\, United States
CATEGORIES:Little Lobos
ATTACH;FMTTYPE=image/avif:https://www.atleticodallas.com/wp-content/uploads/sites/353/2026/01/Little-Lobos-Open-Play.avif
ORGANIZER;CN="Atl%C3%A9tico Dallas Youth":MAILTO:Info@AtleticoDallasYouth.com
END:VEVENT
BEGIN:VEVENT
DTSTART;TZID=America/Chicago:20260127T090000
DTEND;TZID=America/Chicago:20260127T100000
DTSTAMP:20260421T092330
CREATED:20260114T174719Z
LAST-MODIFIED:20260114T174719Z
UID:10000050-1769504400-1769508000@www.atleticodallas.com
SUMMARY:Little Lobos Open Play
DESCRIPTION:Boys & GirlsAges 2 – 5January 27 | 9:00 AM | FREE​@ Soccer Spectrum1251 Digital Dr\, Richardson\, TX 75081Come join a session and see why little lobos is the right fit for your little player!Open to all players in the community
URL:https://www.atleticodallas.com/event/little-lobos-open-play-4/
LOCATION:Soccer Spectrum\, 1251 Digital Drive\, Richardson\, TX\, 75081\, United States
CATEGORIES:Little Lobos,Youth
ATTACH;FMTTYPE=image/jpeg:https://www.atleticodallas.com/wp-content/uploads/sites/353/2026/01/Little-Lobos-Open-Play-Jan-27.jpg
ORGANIZER;CN="Atl%C3%A9tico Dallas Youth":MAILTO:Info@AtleticoDallasYouth.com
END:VEVENT
BEGIN:VEVENT
DTSTART;TZID=America/Chicago:20251024T090000
DTEND;TZID=America/Chicago:20251024T100000
DTSTAMP:20260421T092330
CREATED:20251016T194449Z
LAST-MODIFIED:20251016T194449Z
UID:10000029-1761296400-1761300000@www.atleticodallas.com
SUMMARY:Little Lobos Open Play
DESCRIPTION:Join the fun on the pitch to see if our program is a good fit for you and your family. We foster confidence and bravery on the field\, encouraging players to grow outside of their comfort zone.  \n​Our approach to coaching new players emphasizes technical mastery\, building social skills\, athleticism\, and most importantly\, having fun and loving the game. Players of all backgrounds and skill levels can thrive in our program. \nWe’re committed to cultivating players who will excel in the future of the game and Little Lobos is the first step of the process.
URL:https://www.atleticodallas.com/event/little-lobos-open-play-3/
LOCATION:Ellis County Outdoorsman Church\, 4370 Joe Wilson Rd\, Midlothian\, TX\, 76065\, United States
CATEGORIES:Little Lobos
ATTACH;FMTTYPE=image/png:https://www.atleticodallas.com/wp-content/uploads/sites/353/2025/10/OctNewsletter_LittleLobosOpenPlay.png
ORGANIZER;CN="Atl%C3%A9tico Dallas Youth":MAILTO:Info@AtleticoDallasYouth.com
END:VEVENT
BEGIN:VEVENT
DTSTART;TZID=America/Chicago:20250919T090000
DTEND;TZID=America/Chicago:20250919T094500
DTSTAMP:20260421T092330
CREATED:20250917T194724Z
LAST-MODIFIED:20250917T194724Z
UID:10000015-1758272400-1758275100@www.atleticodallas.com
SUMMARY:Little Lobos Open Play
DESCRIPTION:Join the fun on the pitch to see if our program is a good fit for you and your family. We foster confidence and bravery on the field\, encouraging players to grow outside of their comfort zone.  \n​Our approach to coaching new players emphasizes technical mastery\, building social skills\, athleticism\, and most importantly\, having fun and loving the game. Players of all backgrounds and skill levels can thrive in our program. \nWe’re committed to cultivating players who will excel in the future of the game and Little Lobos is the first step of the process.
URL:https://www.atleticodallas.com/event/little-lobos-open-play-2/
LOCATION:Inpoweriq Performance Center\, 6051 Alma Rd\, McKinney\, TX\, 75070
CATEGORIES:Little Lobos
ATTACH;FMTTYPE=image/png:https://www.atleticodallas.com/wp-content/uploads/sites/353/2025/09/Little-Lobos-Open-Play-Sep-19.png
ORGANIZER;CN="Atl%C3%A9tico Dallas Youth":MAILTO:Info@AtleticoDallasYouth.com
END:VEVENT
BEGIN:VEVENT
DTSTART;TZID=America/Chicago:20250819T090000
DTEND;TZID=America/Chicago:20250819T094500
DTSTAMP:20260421T092330
CREATED:20250813T172246Z
LAST-MODIFIED:20250814T195126Z
UID:10000011-1755594000-1755596700@www.atleticodallas.com
SUMMARY:Little Lobos Open Play
DESCRIPTION:Interested in soccer for your little one? Then come to the the Little Lobos Open Play at Onward Community Church in Frisco on Aug. 19 from 9-9:45 a.m. The open play session is for boys and girls ages 2-5 years old. It’s a great way to see if our program is a good fit for you and your family. Little Lobos is the youngest soccer program available from Atlético Dallas Youth. Open play is FREE to attend. RSVP online today to reserve your spot!
URL:https://www.atleticodallas.com/event/little-lobos-open-play/
LOCATION:Onward Community Church\, 4659 Coit Rd.\, Frisco\, TX\, 75035\, United States
CATEGORIES:Little Lobos,Youth
ATTACH;FMTTYPE=image/png:https://www.atleticodallas.com/wp-content/uploads/sites/353/2025/08/Little-Lobos_Frisco_4x3.png
ORGANIZER;CN="Atl%C3%A9tico Dallas Youth":MAILTO:Info@AtleticoDallasYouth.com
END:VEVENT
END:VCALENDAR