BEGIN:VCALENDAR
VERSION:2.0
PRODID:-//Atlético Dallas - ECPv6.15.17.1//NONSGML v1.0//EN
CALSCALE:GREGORIAN
METHOD:PUBLISH
X-ORIGINAL-URL:https://www.atleticodallas.com
X-WR-CALDESC:Events for Atlético Dallas
REFRESH-INTERVAL;VALUE=DURATION:PT1H
X-Robots-Tag:noindex
X-PUBLISHED-TTL:PT1H
BEGIN:VTIMEZONE
TZID:America/Chicago
BEGIN:DAYLIGHT
TZOFFSETFROM:-0600
TZOFFSETTO:-0500
TZNAME:CDT
DTSTART:20240310T080000
END:DAYLIGHT
BEGIN:STANDARD
TZOFFSETFROM:-0500
TZOFFSETTO:-0600
TZNAME:CST
DTSTART:20241103T070000
END:STANDARD
BEGIN:DAYLIGHT
TZOFFSETFROM:-0600
TZOFFSETTO:-0500
TZNAME:CDT
DTSTART:20250309T080000
END:DAYLIGHT
BEGIN:STANDARD
TZOFFSETFROM:-0500
TZOFFSETTO:-0600
TZNAME:CST
DTSTART:20251102T070000
END:STANDARD
BEGIN:DAYLIGHT
TZOFFSETFROM:-0600
TZOFFSETTO:-0500
TZNAME:CDT
DTSTART:20260308T080000
END:DAYLIGHT
BEGIN:STANDARD
TZOFFSETFROM:-0500
TZOFFSETTO:-0600
TZNAME:CST
DTSTART:20261101T070000
END:STANDARD
END:VTIMEZONE
BEGIN:VEVENT
DTSTART;TZID=America/Chicago:20251025T160000
DTEND;TZID=America/Chicago:20251025T230000
DTSTAMP:20260421T075821
CREATED:20251014T213202Z
LAST-MODIFIED:20251014T213648Z
UID:10000028-1761408000-1761433200@www.atleticodallas.com
SUMMARY:Dallas Dia De Los Muertos
DESCRIPTION:The 6th Annual Dallas Dia de los Muertos Parade and Festival\, Presented by Reliant\, is an exciting tradition for the City of Dallas. With this heartfelt parade\, it is our mission to celebrate the living and honor our beloved. \nNo matter who you are\, no matter where you are from\, we want you to attend the parade and festival. If there is something we all share is the love and grief for our family and friends who left us\, and in this Dia de los Muertos\, we are all one. \nThis historic parade and festival will begin and end at Dallas City Hall\, from 4-11pm\, while the parade is from 7-8pm. Join us for an evening filled with live music\, a beautiful parade\, delicious concessions\, fun arts & crafts\, and so much more! \nAs we celebrate life\, some of our respected leaders of Dallas will be honored for their service to this great city. \nFor those that want to participate in the Parade\, we do ask for your attire to be authentic\, full of pageantry and beauty. While this is a celebration\, we want to keep the tradition as it is meant to be\, and to have fun in a safe environment for all the adults and children that will be joining us. With that being said we humbly reserve the right to deny entrance. \nThis parade will be open to any and all participants that want to join us in celebration. \nPlease join us for a day filled with celebration of culture\, life\, death\, and love! \nLocated at Dallas City Hall
URL:https://www.atleticodallas.com/event/dallas-dia-de-los-muertos/
CATEGORIES:Family
ATTACH;FMTTYPE=image/jpeg:https://www.atleticodallas.com/wp-content/uploads/sites/353/2025/10/https___cdn.evbuc_.com_images_1107953423_314946667562_1_original.jpeg
END:VEVENT
BEGIN:VEVENT
DTSTART;TZID=America/Chicago:20251018T100000
DTEND;TZID=America/Chicago:20251018T150000
DTSTAMP:20260421T075821
CREATED:20251013T182442Z
LAST-MODIFIED:20251013T182442Z
UID:10000027-1760781600-1760799600@www.atleticodallas.com
SUMMARY:Wheels of Hope Classic Car Show
DESCRIPTION:  \n \nJoin the Atlético Dallas street team at the 10th Annual Wheels of Hope Classic Car Show in Downtown Garland on the Square. The event will be Saturday\, October 18 from 10:00 AM – 3:00 PM. Atlético Dallas will be there to support this event\, which benefits Hope Clinic in Garland.   \nGreat Cars! Great Music! Great Event! Fun for the entire family! Free Admission! \nSpecial guest performance by BEATLEGRAS  \nThere will also be a special visit from NASCAR veteran Joe Nemechek! Make plans to come by and meet this racing legend. \n 
URL:https://www.atleticodallas.com/event/wheels-of-hope-classic-car-show/
LOCATION:Garland Square\, 520 W State St\, Garland\, TX\, 75040\, United States
CATEGORIES:Family
END:VEVENT
BEGIN:VEVENT
DTSTART;TZID=America/Chicago:20251010T200000
DTEND;TZID=America/Chicago:20251010T230000
DTSTAMP:20260421T075821
CREATED:20251008T191340Z
LAST-MODIFIED:20251008T191627Z
UID:10000018-1760126400-1760137200@www.atleticodallas.com
SUMMARY:Caldwell Elementary Haunted House
DESCRIPTION:🎃 Join Us at Cucuy Nights\, A Spooktacular Family Fundraiser! 👻 \nWe’re excited to be part of Cucuy Nights\, Caldwell Elementary’s annual haunted house fundraiser\, supporting local students and bringing the community together for some fright-filled fun! \nCome see us on October 10 from 8PM to 11PM! Whether you’re in it for the spooky thrills or just the tasty eats\, there’s something for everyone. \nBring your friends\, bring your family\, and help support a great cause. Costumes encouraged! \nWhere: Caldwell Elementary | 2020 Saturn Rd\, Garland\, TX 75041\, United StatesWhen: Friday\, October 10Time: 8:00 PM – 11:00 PM
URL:https://www.atleticodallas.com/event/caldwell-elementary-haunted-house/
LOCATION:Caldwell Elementary\, 2020 Saturn Rd\, Garland\, TX\, 75041\, United States
CATEGORIES:Family
ATTACH;FMTTYPE=image/jpeg:https://www.atleticodallas.com/wp-content/uploads/sites/353/2025/10/IMG_20251008_132111.jpg
END:VEVENT
BEGIN:VEVENT
DTSTART;TZID=America/Chicago:20250928T110000
DTEND;TZID=America/Chicago:20250928T190000
DTSTAMP:20260421T075821
CREATED:20250917T192926Z
LAST-MODIFIED:20250917T192959Z
UID:10000014-1759057200-1759086000@www.atleticodallas.com
SUMMARY:Messtival at AT&T Discovery District
DESCRIPTION:Get ready for a family festival like no other – where music\, magic\, and messy fun collide! Perfect for families with kiddos ages 0–15 – and anyone who loves live music\, creativity\, and good community vibes. Come ready to get a little messy and a whole lot happy! \nWhere: AT&T Discovery District\, Downtown DallasWhen: September 27–28\, 2025Time: 11:00 AM – 7:00 PM daily \nThis two-day celebration starts on Saturday\, and transforms downtown Dallas into a colorful wonderland filled with interactive zones\, live performances\, immersive art\, and hands-on activities. On Sunday\, Hispanic and American tribute acts take the main stage for an unforgettable line-up of live music! \nDay 1: Dive into a powder paint party bursting with color\, laughs\, and unforgettable memories.Day 2: Celebrate the rhythm of the Americas with live music tributes to your favorite American and Hispanic artists.
URL:https://www.atleticodallas.com/event/messtival-at-att-discovery-district/2025-09-28/
LOCATION:AT&T Discovery District\, 308 S Akard St.\, Dallas\, TX\, 75202
CATEGORIES:Family
ATTACH;FMTTYPE=image/jpeg:https://www.atleticodallas.com/wp-content/uploads/sites/353/2025/09/Messtival-v2.jpg
ORGANIZER;CN="Messtival USA":MAILTO:hello@1111hospitality.com
END:VEVENT
BEGIN:VEVENT
DTSTART;TZID=America/Chicago:20250927T110000
DTEND;TZID=America/Chicago:20250927T190000
DTSTAMP:20260421T075821
CREATED:20250917T192926Z
LAST-MODIFIED:20250917T192959Z
UID:10000013-1758970800-1758999600@www.atleticodallas.com
SUMMARY:Messtival at AT&T Discovery District
DESCRIPTION:Get ready for a family festival like no other – where music\, magic\, and messy fun collide! Perfect for families with kiddos ages 0–15 – and anyone who loves live music\, creativity\, and good community vibes. Come ready to get a little messy and a whole lot happy! \nWhere: AT&T Discovery District\, Downtown DallasWhen: September 27–28\, 2025Time: 11:00 AM – 7:00 PM daily \nThis two-day celebration starts on Saturday\, and transforms downtown Dallas into a colorful wonderland filled with interactive zones\, live performances\, immersive art\, and hands-on activities. On Sunday\, Hispanic and American tribute acts take the main stage for an unforgettable line-up of live music! \nDay 1: Dive into a powder paint party bursting with color\, laughs\, and unforgettable memories.Day 2: Celebrate the rhythm of the Americas with live music tributes to your favorite American and Hispanic artists.
URL:https://www.atleticodallas.com/event/messtival-at-att-discovery-district/2025-09-27/
LOCATION:AT&T Discovery District\, 308 S Akard St.\, Dallas\, TX\, 75202
CATEGORIES:Family
ATTACH;FMTTYPE=image/jpeg:https://www.atleticodallas.com/wp-content/uploads/sites/353/2025/09/Messtival-v2.jpg
ORGANIZER;CN="Messtival USA":MAILTO:hello@1111hospitality.com
END:VEVENT
BEGIN:VEVENT
DTSTART;TZID=America/Chicago:20250927T083000
DTEND;TZID=America/Chicago:20250927T130000
DTSTAMP:20260421T075821
CREATED:20250917T204345Z
LAST-MODIFIED:20250917T204345Z
UID:10000016-1758961800-1758978000@www.atleticodallas.com
SUMMARY:Richardson Guns & Hoses Special Olympics Unified Soccer Game
DESCRIPTION:The Richardson Police and Fire Department are teaming with local Special Olympics Texas athletes in a head to head soccer competition! The top fundraising team will take home the coveted Guns & Hoses trophy. Join us for this inaugural event and donate to support either the Richardson Police or Fire Department. \n\n9:00am – 10:00am (soccer skills & drills)\n10:30am – 11:30am (Young Athletes & FUNdamentals skills & drills)\n12:00pm – 1:00pm (Guns and Hoses Unified Soccer Game)\n\nFor more information about how to participate or volunteer for Special Olympics\, email Jordan Baccus at jbaccus@sotx.org.
URL:https://www.atleticodallas.com/event/richardson-guns-hoses-special-olympics-unified-soccer-game/
LOCATION:Soccer Spectrum\, 1251 Digital Drive\, Richardson\, TX\, 75081\, United States
CATEGORIES:Family
ATTACH;FMTTYPE=image/jpeg:https://www.atleticodallas.com/wp-content/uploads/sites/353/2025/09/SOTX-Soccer-Match.jpg
ORGANIZER;CN="Special Olympics Texas":MAILTO:jbaccus@sotx.org
END:VEVENT
END:VCALENDAR