BEGIN:VCALENDAR
VERSION:2.0
PRODID:-//Atlético Dallas - ECPv6.15.17.1//NONSGML v1.0//EN
CALSCALE:GREGORIAN
METHOD:PUBLISH
X-WR-CALNAME:Atlético Dallas
X-ORIGINAL-URL:https://www.atleticodallas.com
X-WR-CALDESC:Events for Atlético Dallas
REFRESH-INTERVAL;VALUE=DURATION:PT1H
X-Robots-Tag:noindex
X-PUBLISHED-TTL:PT1H
BEGIN:VTIMEZONE
TZID:America/Chicago
BEGIN:DAYLIGHT
TZOFFSETFROM:-0600
TZOFFSETTO:-0500
TZNAME:CDT
DTSTART:20250309T080000
END:DAYLIGHT
BEGIN:STANDARD
TZOFFSETFROM:-0500
TZOFFSETTO:-0600
TZNAME:CST
DTSTART:20251102T070000
END:STANDARD
BEGIN:DAYLIGHT
TZOFFSETFROM:-0600
TZOFFSETTO:-0500
TZNAME:CDT
DTSTART:20260308T080000
END:DAYLIGHT
BEGIN:STANDARD
TZOFFSETFROM:-0500
TZOFFSETTO:-0600
TZNAME:CST
DTSTART:20261101T070000
END:STANDARD
BEGIN:DAYLIGHT
TZOFFSETFROM:-0600
TZOFFSETTO:-0500
TZNAME:CDT
DTSTART:20270314T080000
END:DAYLIGHT
BEGIN:STANDARD
TZOFFSETFROM:-0500
TZOFFSETTO:-0600
TZNAME:CST
DTSTART:20271107T070000
END:STANDARD
END:VTIMEZONE
BEGIN:VEVENT
DTSTART;TZID=America/Chicago:20260225T130000
DTEND;TZID=America/Chicago:20260225T163000
DTSTAMP:20260423T121539
CREATED:20260129T221438Z
LAST-MODIFIED:20260129T221438Z
UID:10000060-1772024400-1772037000@www.atleticodallas.com
SUMMARY:Dallas Stars Career Fair
DESCRIPTION:The Dallas Stars are excited to present our 2026 Dallas Stars Career Fair at American Airlines Center! Spend the afternoon meeting with representatives of teams and organizations all over the region. There are opportunities for Full-time\, Part-time\, and Internships. Every Career Fair purchase includes a ticket to the Stars vs. Kraken game at 7PM! **A ticket purchase through this link is required to attend the Career Fair** \nTeams & Organizations \nAmerican Airlines Center \nAtlético Dallas \nAustin FC \nBEST Crowd Management \nCarnival Entertainment \nChildren’s Health StarCenters \nDallas Cowboys Football Club \nDallas Pulse (MLV) \nDallas Stars Hockey Club \nDallas Trinity FC \nDallas Wings \nFC Dallas \nFrisco Roughriders \nLegends Global \nNorthern Texas PGA \nOklahoma City Thunder \nParker University \nPeak Sports MGMT \nPMY Group \nRodeo Soccer Club \nSports Academy \nTexas Rangers \nTexas Stars Hockey Club \nTIAA \n..and more to come! \nItinerary: \n1:00 P.M. – Doors open for attendees \nEnter through the West side of the building. You will see a “Career Fair Entrance” sign located outside of the West entrance. \nTo enter the Career Fair\, show security your ticket. Tickets will be scanned if you are reentering for the Stars vs. Kraken game after the Career Fair. \nOnce you enter the career fair\, please be seated in sections 108 or 109. \n1:30 P.M. – Brief Introduction \n2:00 P.M. – Attendees will be released to meet with potential employers. \n4:15 P.M. – 15-Minute Warning (Lines will be cut off at 3 people deep) \n4:30 P.M. – Conclusion of the Career Fair \nEveryone will be escorted out of the arena by 4:30 PM. \n5:30 P.M. – Doors will re-open for the Stars vs. Kraken game \n7:00 P.M. – Dallas Stars vs. Seattle Kraken game \n  \nParking Information: \nIf you plan to drive to the Career Fair\, event parking will be available in the Lexus Garage (2620 N Houston St. Dallas TX\, 75021) for $40. \nPlease note – there is NO re-entry for parking passes. If you plan on leaving the garage after the event and returning for the game\, your event parking pass will no longer be valid. \nAdditional details to be sent out prior to the event. \nFor more information\, please contact Paige Edmier at pedmier@dallasstars.com.
URL:https://www.atleticodallas.com/event/dallas-stars-career-fair/
LOCATION:American Airlines Center\, 2500 Victory Ave\, Dallas\, TX\, 75219\, United States
CATEGORIES:Community
ATTACH;FMTTYPE=image/png:https://www.atleticodallas.com/wp-content/uploads/sites/353/2026/01/429b5692-5cca-41ec-8822-e5301f4aaa75.png
END:VEVENT
BEGIN:VEVENT
DTSTART;TZID=America/Chicago:20260411T180000
DTEND;TZID=America/Chicago:20260411T200000
DTSTAMP:20260423T121539
CREATED:20260410T154421Z
LAST-MODIFIED:20260410T154523Z
UID:10000071-1775930400-1775937600@www.atleticodallas.com
SUMMARY:Dallas Pickup Soccer
DESCRIPTION:
URL:https://www.atleticodallas.com/event/dallas-pickup-soccer/
LOCATION:Soccer Spectrum\, 1251 Digital Drive\, Richardson\, TX\, 75081\, United States
CATEGORIES:Community
END:VEVENT
BEGIN:VEVENT
DTSTART;TZID=America/Chicago:20260416T083000
DTEND;TZID=America/Chicago:20260416T120000
DTSTAMP:20260423T121539
CREATED:20260326T200250Z
LAST-MODIFIED:20260326T200250Z
UID:10000068-1776328200-1776340800@www.atleticodallas.com
SUMMARY:Special Olympics Law Enforcement Torch Run & 5K
DESCRIPTION:
URL:https://www.atleticodallas.com/event/special-olympics-law-enforcement-torch-run-5k/
LOCATION:Klyde Warren Park\, 2012 Woodall Rodgers Fwy\, Dallas\, TX\, 75201\, United States
CATEGORIES:Community
ATTACH;FMTTYPE=image/png:https://www.atleticodallas.com/wp-content/uploads/sites/353/2026/03/2026-Dallas-Torch-Run_Ruck-Flyer.png
ORGANIZER;CN="Special Olympics Texas":MAILTO:jbaccus@sotx.org
END:VEVENT
BEGIN:VEVENT
DTSTART;TZID=America/Chicago:20260425T110000
DTEND;TZID=America/Chicago:20260425T160000
DTSTAMP:20260423T121539
CREATED:20260410T160411Z
LAST-MODIFIED:20260410T160411Z
UID:10000072-1777114800-1777132800@www.atleticodallas.com
SUMMARY:Dia Del Niño Festival
DESCRIPTION:
URL:https://www.atleticodallas.com/event/dia-del-nino-festival/
LOCATION:TX
CATEGORIES:Community,Family
END:VEVENT
BEGIN:VEVENT
DTSTART;TZID=America/Chicago:20260501T163000
DTEND;TZID=America/Chicago:20260501T220000
DTSTAMP:20260423T121539
CREATED:20260326T200531Z
LAST-MODIFIED:20260326T200531Z
UID:10000069-1777653000-1777672800@www.atleticodallas.com
SUMMARY:Big Six Foundation Cornhole Tournament
DESCRIPTION:
URL:https://www.atleticodallas.com/event/big-six-foundation-cornhole-tournament/
LOCATION:Soccer Spectrum\, 1251 Digital Drive\, Richardson\, TX\, 75081\, United States
CATEGORIES:Community
END:VEVENT
BEGIN:VEVENT
DTSTART;TZID=America/Chicago:20260503T090000
DTEND;TZID=America/Chicago:20260503T120000
DTSTAMP:20260423T121539
CREATED:20260417T141852Z
LAST-MODIFIED:20260417T141852Z
UID:10000077-1777798800-1777809600@www.atleticodallas.com
SUMMARY:La Bandera 5K
DESCRIPTION:Corre con orgullo. Rooted in cultura\, comunidad\, and movement. Bring your flag. Everyone is invited. \n\n\n\n\nJoin us at Olmo Market for a morning of movement and community. We’ll have coffee and the La Bandera drink from Olmo Market\, hydration by Si Se Puede\, breakfast tacos\, and music. \nInspired by the colors of La Bandera\, this is about hope\, unity\, and sacrifice.\nIt’s a fun run\, jog\, or walk. Unidos en movimiento.\nCome move with orgullo and show what’s possible. \nGreen for hope. White for unity. Red for sacrifice. \nThat’s what we carry every step of the way.
URL:https://www.atleticodallas.com/event/la-bandera-5k/
LOCATION:Olmo Market\, 2111 S Edgefield Ave\, Dallas\, TX\, 75224\, United States
CATEGORIES:Community
END:VEVENT
BEGIN:VEVENT
DTSTART;TZID=America/Chicago:20260509T170000
DTEND;TZID=America/Chicago:20260509T210000
DTSTAMP:20260423T121539
CREATED:20260417T172141Z
LAST-MODIFIED:20260417T172142Z
UID:10000078-1778346000-1778360400@www.atleticodallas.com
SUMMARY:Dallas Stadium World Cup Takeover
DESCRIPTION:🚨 DALLAS STADIUM WORLD CUP TAKEOVER 🚨 \n⭐️ Nike\, Vanta\, and the whole Dallas Soccer Community are taking over AT&T Stadium right before the World Cup! This is not a normal event – this is history. \nPresented by: @1925tequila \n🏟️ FREE STADIUM TOURS: 1\,000 behind the scenes stadium tours – operated by NIKE. RSVP on our event page to lock in your spot!\n👟 FREE NIKE GIVEAWAYS: New national team kits + Nike boots (plus free boot trials)\n🎟️ FREE EVENT (RSVP to save your spot on Posh)\n🚗 FREE PARKING (Lot Blue 10)\n⭐️ OPEN TO ALL AGES\n📅 MAY 9th. 5pm – 9pm \nIf you’re a soccer player\, fan\, or just excited about the World Cup – this once in a lifetime event is for you. \n🎉 OUTDOOR BLOCK PARTY: \n⚽️ FREE ADULT & YOUTH PICKUP run by @project_2.1.4 & @cityfutsal on the Miller Lite Turf\n🏆 1v1 tournament (all participants get free Nike National team kits and boots)\n🔥 @atletico_dallas panna cage\n🔥 @dallasstreetsoccer panna cage + 3v3 street pickup in front of the stadium\n📺 @dallastrinityfc WATCH PARTY! Dallas Trinity is taking on Tampa Bay and you’ll be able to watch on the biggest screens\n👕 @tifo.mrkt pop-up featuring some of Nike’s best pieces \nTHIS IS A ONCE IN A LIFETIME MOMENT. Let’s bring the whole Dallas community together and kick off the World Cup the right way
URL:https://www.atleticodallas.com/event/dallas-stadium-world-cup-takeover/
LOCATION:AT&T Stadium\, 1 AT&T Way\, Arlington\, TX\, United States
CATEGORIES:Community
ATTACH;FMTTYPE=image/png:https://www.atleticodallas.com/wp-content/uploads/sites/353/2026/04/Screenshot-2026-04-17-at-12.19.49-PM.png
END:VEVENT
END:VCALENDAR