BEGIN:VCALENDAR
VERSION:2.0
PRODID:-//Atlético Dallas - ECPv6.15.17.1//NONSGML v1.0//EN
CALSCALE:GREGORIAN
METHOD:PUBLISH
X-ORIGINAL-URL:https://www.atleticodallas.com
X-WR-CALDESC:Events for Atlético Dallas
REFRESH-INTERVAL;VALUE=DURATION:PT1H
X-Robots-Tag:noindex
X-PUBLISHED-TTL:PT1H
BEGIN:VTIMEZONE
TZID:America/Chicago
BEGIN:DAYLIGHT
TZOFFSETFROM:-0600
TZOFFSETTO:-0500
TZNAME:CDT
DTSTART:20240310T080000
END:DAYLIGHT
BEGIN:STANDARD
TZOFFSETFROM:-0500
TZOFFSETTO:-0600
TZNAME:CST
DTSTART:20241103T070000
END:STANDARD
BEGIN:DAYLIGHT
TZOFFSETFROM:-0600
TZOFFSETTO:-0500
TZNAME:CDT
DTSTART:20250309T080000
END:DAYLIGHT
BEGIN:STANDARD
TZOFFSETFROM:-0500
TZOFFSETTO:-0600
TZNAME:CST
DTSTART:20251102T070000
END:STANDARD
BEGIN:DAYLIGHT
TZOFFSETFROM:-0600
TZOFFSETTO:-0500
TZNAME:CDT
DTSTART:20260308T080000
END:DAYLIGHT
BEGIN:STANDARD
TZOFFSETFROM:-0500
TZOFFSETTO:-0600
TZNAME:CST
DTSTART:20261101T070000
END:STANDARD
BEGIN:DAYLIGHT
TZOFFSETFROM:-0600
TZOFFSETTO:-0500
TZNAME:CDT
DTSTART:20270314T080000
END:DAYLIGHT
BEGIN:STANDARD
TZOFFSETFROM:-0500
TZOFFSETTO:-0600
TZNAME:CST
DTSTART:20271107T070000
END:STANDARD
END:VTIMEZONE
BEGIN:VEVENT
DTSTART;TZID=America/Chicago:20260416T083000
DTEND;TZID=America/Chicago:20260416T120000
DTSTAMP:20260421T075715
CREATED:20260326T200250Z
LAST-MODIFIED:20260326T200250Z
UID:10000068-1776328200-1776340800@www.atleticodallas.com
SUMMARY:Special Olympics Law Enforcement Torch Run & 5K
DESCRIPTION:
URL:https://www.atleticodallas.com/event/special-olympics-law-enforcement-torch-run-5k/
LOCATION:Klyde Warren Park\, 2012 Woodall Rodgers Fwy\, Dallas\, TX\, 75201\, United States
CATEGORIES:Community
ATTACH;FMTTYPE=image/png:https://www.atleticodallas.com/wp-content/uploads/sites/353/2026/03/2026-Dallas-Torch-Run_Ruck-Flyer.png
ORGANIZER;CN="Special Olympics Texas":MAILTO:jbaccus@sotx.org
END:VEVENT
BEGIN:VEVENT
DTSTART;TZID=America/Chicago:20260411T180000
DTEND;TZID=America/Chicago:20260411T200000
DTSTAMP:20260421T075715
CREATED:20260410T154421Z
LAST-MODIFIED:20260410T154523Z
UID:10000071-1775930400-1775937600@www.atleticodallas.com
SUMMARY:Dallas Pickup Soccer
DESCRIPTION:
URL:https://www.atleticodallas.com/event/dallas-pickup-soccer/
LOCATION:Soccer Spectrum\, 1251 Digital Drive\, Richardson\, TX\, 75081\, United States
CATEGORIES:Community
END:VEVENT
BEGIN:VEVENT
DTSTART;TZID=America/Chicago:20260225T130000
DTEND;TZID=America/Chicago:20260225T163000
DTSTAMP:20260421T075715
CREATED:20260129T221438Z
LAST-MODIFIED:20260129T221438Z
UID:10000060-1772024400-1772037000@www.atleticodallas.com
SUMMARY:Dallas Stars Career Fair
DESCRIPTION:The Dallas Stars are excited to present our 2026 Dallas Stars Career Fair at American Airlines Center! Spend the afternoon meeting with representatives of teams and organizations all over the region. There are opportunities for Full-time\, Part-time\, and Internships. Every Career Fair purchase includes a ticket to the Stars vs. Kraken game at 7PM! **A ticket purchase through this link is required to attend the Career Fair** \nTeams & Organizations \nAmerican Airlines Center \nAtlético Dallas \nAustin FC \nBEST Crowd Management \nCarnival Entertainment \nChildren’s Health StarCenters \nDallas Cowboys Football Club \nDallas Pulse (MLV) \nDallas Stars Hockey Club \nDallas Trinity FC \nDallas Wings \nFC Dallas \nFrisco Roughriders \nLegends Global \nNorthern Texas PGA \nOklahoma City Thunder \nParker University \nPeak Sports MGMT \nPMY Group \nRodeo Soccer Club \nSports Academy \nTexas Rangers \nTexas Stars Hockey Club \nTIAA \n..and more to come! \nItinerary: \n1:00 P.M. – Doors open for attendees \nEnter through the West side of the building. You will see a “Career Fair Entrance” sign located outside of the West entrance. \nTo enter the Career Fair\, show security your ticket. Tickets will be scanned if you are reentering for the Stars vs. Kraken game after the Career Fair. \nOnce you enter the career fair\, please be seated in sections 108 or 109. \n1:30 P.M. – Brief Introduction \n2:00 P.M. – Attendees will be released to meet with potential employers. \n4:15 P.M. – 15-Minute Warning (Lines will be cut off at 3 people deep) \n4:30 P.M. – Conclusion of the Career Fair \nEveryone will be escorted out of the arena by 4:30 PM. \n5:30 P.M. – Doors will re-open for the Stars vs. Kraken game \n7:00 P.M. – Dallas Stars vs. Seattle Kraken game \n  \nParking Information: \nIf you plan to drive to the Career Fair\, event parking will be available in the Lexus Garage (2620 N Houston St. Dallas TX\, 75021) for $40. \nPlease note – there is NO re-entry for parking passes. If you plan on leaving the garage after the event and returning for the game\, your event parking pass will no longer be valid. \nAdditional details to be sent out prior to the event. \nFor more information\, please contact Paige Edmier at pedmier@dallasstars.com.
URL:https://www.atleticodallas.com/event/dallas-stars-career-fair/
LOCATION:American Airlines Center\, 2500 Victory Ave\, Dallas\, TX\, 75219\, United States
CATEGORIES:Community
ATTACH;FMTTYPE=image/png:https://www.atleticodallas.com/wp-content/uploads/sites/353/2026/01/429b5692-5cca-41ec-8822-e5301f4aaa75.png
END:VEVENT
BEGIN:VEVENT
DTSTART;TZID=America/Chicago:20260221T090000
DTEND;TZID=America/Chicago:20260221T120000
DTSTAMP:20260421T075715
CREATED:20260129T220049Z
LAST-MODIFIED:20260129T220049Z
UID:10000056-1771664400-1771675200@www.atleticodallas.com
SUMMARY:Pasos For Oak Cliff 5K
DESCRIPTION:Kick off the new year with purpose and community at the Pasos for Oak Cliff’s second annual 5K\, New Year’s Resolution! Whether you’re an experienced runner or just beginning your fitness journey\, this race is the perfect way to set the tone for 2026. The scenic route will take you through a section of downtown Dallas\, concluding at Four Corners Brewing Co\, where the celebration continues! \nAfter crossing the finish line\, join us for a health-focused expo featuring local organizations and businesses dedicated to promoting wellness in our community. Discover resources\, enjoy healthy snacks\, and connect with others who share your commitment to a healthier lifestyle. \nBest of all\, your participation supports a great cause. All proceeds from the race will go directly to the Pasos Scholarship 2026\, helping local students achieve their educational dreams.
URL:https://www.atleticodallas.com/event/pasos-for-oak-cliff-5k/
LOCATION:TX
CATEGORIES:Community
END:VEVENT
BEGIN:VEVENT
DTSTART;TZID=America/Chicago:20260201T120000
DTEND;TZID=America/Chicago:20260201T170000
DTSTAMP:20260421T075715
CREATED:20260129T204505Z
LAST-MODIFIED:20260129T204505Z
UID:10000052-1769947200-1769965200@www.atleticodallas.com
SUMMARY:TIFO Market @ Peticolas
DESCRIPTION:February is going to be an exciting month for TIFO\, and we’ll be kicking it off at @peticolas for our very first Kit Swap at their Brewery in the Design District! \nCome by\, grab some new kits and enjoy some of the best local beer Dallas has to offer! Make sure to come hungry\, as we’ll have @threesmiths3 and @guitarsandgrowlers there to provide the grub! \nPS – Everyone who RSVPs will get one free drink ticket 🍺 \nSee you February 1st from 12-5 PM 👊\n📍1301 Pace St\, Dallas\, TX 75207
URL:https://www.atleticodallas.com/event/tifo-market-peticolas/
LOCATION:Peticolas Brewing Company\, 1301 Pace St\, Dallas\, TX\, 75207\, United States
CATEGORIES:Community
ATTACH;FMTTYPE=image/png:https://www.atleticodallas.com/wp-content/uploads/sites/353/2026/01/Screenshot-2026-01-29-at-2.42.42-PM.png
END:VEVENT
BEGIN:VEVENT
DTSTART;TZID=America/Chicago:20260131T150000
DTEND;TZID=America/Chicago:20260131T190000
DTSTAMP:20260421T075715
CREATED:20260114T173529Z
LAST-MODIFIED:20260114T173530Z
UID:10000048-1769871600-1769886000@www.atleticodallas.com
SUMMARY:Lunaticos Azules Anniversary Party
DESCRIPTION:Crossbar Richardson\n📅 Jan 31 \n⚽ 3–5pm – Open pick up!\nNot interested in playing? No prob — swing by at 5pm\, mingle\, celebrate\, hang out with the crew. \n🥤 5–7pm – Beverages & giveaways\nWe’ve got a few small Atlético Dallas items to give away 👀 \n🎉 Afterparty – 8pm\nCan’t make it to Crossbar? No worries — a few of us will head to Lochland’s Dallas for a quick pint! \n🔵 Open Membership 2026\nDon’t forget — we have open membership (free) for 2026. Head to our homepage and sign up! This is the only way to be considered a true member! \nThank you for an insane first year.\nVamos Lunáticos Azules 💙⚽🐺
URL:https://www.atleticodallas.com/event/lunaticos-azules-anniversary-party/
LOCATION:Crossbar Soccer + Beer – Richardson\, 1000 Hampshire Ln\, Richardson\, TX\, 75080\, United States
CATEGORIES:Community
ATTACH;FMTTYPE=image/png:https://www.atleticodallas.com/wp-content/uploads/sites/353/2026/01/Screenshot-2026-01-14-at-11.29.07-AM.png
END:VEVENT
BEGIN:VEVENT
DTSTART;TZID=America/Chicago:20260129T083000
DTEND;TZID=America/Chicago:20260129T103000
DTSTAMP:20260421T075715
CREATED:20260129T215639Z
LAST-MODIFIED:20260129T215639Z
UID:10000055-1769675400-1769682600@www.atleticodallas.com
SUMMARY:Social Run at Peticolas
DESCRIPTION:The monthly social runs are hosted on the second Saturday of each month and will keep you in beer belly shape for the Velvet Hammer 5k. The taproom is OPEN! Check in is between the hours of 8-9 AM. You can start your run/walk whenever you would like\, or join the group start at 8:30 AM. The rolling start allows you  a choice\, flexibility to go at your pace\, but please arrive by 9 AM. \nThe social run includes the run/walk\, a custom branded pint glass\, three brews\, and That Taco Dude breakfast. \nLink to signup: SIGNUP HERE
URL:https://www.atleticodallas.com/event/social-run-at-peticolas/
LOCATION:Peticolas Brewing Company\, 1301 Pace St\, Dallas\, TX\, 75207\, United States
CATEGORIES:Community
END:VEVENT
BEGIN:VEVENT
DTSTART;TZID=America/Chicago:20260118T120000
DTEND;TZID=America/Chicago:20260118T170000
DTSTAMP:20260421T075715
CREATED:20260114T174011Z
LAST-MODIFIED:20260114T174011Z
UID:10000049-1768737600-1768755600@www.atleticodallas.com
SUMMARY:TIFO Market
DESCRIPTION:New year\, new kits? 👀 \nTo kick off 2026\, we’re running it back at Common Good for our first Kit Swap of the year 🔥 \nY’all already know what to expect from this collab; dope kits\, great drinks\, and all the best vibes. \nCatch us there January 18 from 12-5 PM! \nMake sure to RSVP for the giveaway!
URL:https://www.atleticodallas.com/event/tifo-market-3/
LOCATION:Common Good\, 1619 N Hall St\, Dallas\, TX\, 75204\, United States
CATEGORIES:Community
END:VEVENT
BEGIN:VEVENT
DTSTART;VALUE=DATE:20260116
DTEND;VALUE=DATE:20260119
DTSTAMP:20260421T075715
CREATED:20260114T175518Z
LAST-MODIFIED:20260114T175519Z
UID:10000051-1768521600-1768780799@www.atleticodallas.com
SUMMARY:Outlaw Cup
DESCRIPTION:The Outlaw Cup is a North Texas Youth Soccer Tournament played in Grapevine\, TX. This event is perfect for U7-U19 youth soccer teams. Kick your season off with some great competition with teams participating from Texas\, Oklahoma\, Arkansas\, Kansas\, Colorado and Louisiana.  The 2025 Outlaw Cup played host to 315 teams!
URL:https://www.atleticodallas.com/event/outlaw-cup/
LOCATION:Meadowmere Park\, 3099 Meadowmere Park\, Grapevine\, TX\, 76051\, United States
CATEGORIES:Community,Youth
ATTACH;FMTTYPE=image/jpeg:https://www.atleticodallas.com/wp-content/uploads/sites/353/2026/01/26OC-TITLE.jpg
ORGANIZER;CN="Soccer Management Company":MAILTO:steve@smcsoccer.com
END:VEVENT
BEGIN:VEVENT
DTSTART;TZID=America/Chicago:20251220T153000
DTEND;TZID=America/Chicago:20251220T180000
DTSTAMP:20260421T075715
CREATED:20251125T174700Z
LAST-MODIFIED:20251125T174700Z
UID:10000043-1766244600-1766253600@www.atleticodallas.com
SUMMARY:Volunteer at Dream Center Dallas
DESCRIPTION:Toy Distribution for local families
URL:https://www.atleticodallas.com/event/volunteer-at-dream-center-dallas/
LOCATION:Dream Center Dallas\, 1900 S Ewing Ave\, Dallas\, TX\, 75216\, United States
CATEGORIES:Community
ATTACH;FMTTYPE=image/jpeg:https://www.atleticodallas.com/wp-content/uploads/sites/353/2025/11/68c83706834d882b751b441b_DC-Christmas-Main-Graphic-16x9-p-800.jpg
END:VEVENT
BEGIN:VEVENT
DTSTART;TZID=America/Chicago:20251214T080000
DTEND;TZID=America/Chicago:20251214T170000
DTSTAMP:20260421T075715
CREATED:20251125T172440Z
LAST-MODIFIED:20251125T172508Z
UID:10000040-1765699200-1765731600@www.atleticodallas.com
SUMMARY:Dallas BMW Marathon
DESCRIPTION:Full (26.2M)\, Half Marathon (13.1M)\, Half Marathon Walk (13.1M) & 50K Ultra Marathon (31M) \nSunday’s race course will begin and end in Downtown Dallas and will highlight the best areas of the city. Along the way\, runners will pass through various popular neighborhoods with exciting cheer stations and on-course entertainment before finishing the race at Dallas City Hall Plaza! \n*The BMW Dallas Marathon is a Boston Marathon qualifier
URL:https://www.atleticodallas.com/event/dallas-bmw-marathon/
LOCATION:Dallas City Hall Plaza\, 1500 Marilla St\, Dallas\, TX\, 75201\, United States
CATEGORIES:Community
END:VEVENT
BEGIN:VEVENT
DTSTART;TZID=America/Chicago:20251213T160000
DTEND;TZID=America/Chicago:20251213T220000
DTSTAMP:20260421T075715
CREATED:20251124T222953Z
LAST-MODIFIED:20251204T175053Z
UID:10000038-1765641600-1765663200@www.atleticodallas.com
SUMMARY:Fútbol Block Party
DESCRIPTION:Celebrate the beautiful game with fellow soccer fans! Come out and enjoy food\, drinks\, vendors\, prizes\, and a special announcement to all our fans! Come out and enjoy a night of fun with fellow soccer fans. We will have a variety of shopping vendors on site\, a live DJ\, food & drinks for sale\, exciting prizes\, plus some surprise guests to help us make some very exciting announcements about the future of our club. If you’ve been following our journey then you won’t want to miss this event!\n  \n\nSpecial Thanks to Our Event Partners!\n\n \n\n  \n\n\n\nTis The Season to Give Back\n\nWe will be hosting two very special collection drives at the block party and need your help to make it a huge success! Austin Street Center provides safe shelter\, basic needs\, and emergency services for the most vulnerable homeless in Dallas. Bring your new or gently used blankets and warm coats\, gloves\, hats and other cold weather gear to the Block Party and help them stay warm this winter. Pasos for Oak Cliff believes that a new pair of shoes is more than just footwear – it’s a stepping stone towards self-confidence\, belonging\, and academic success. Bring new sneakers in all sizes for children and teens to help them achieve athletic and academic success. Everyone who donates to Austin Street Center or Pasos for Oak Cliff will receive five tickets at the door to use in the prize drawings.
URL:https://www.atleticodallas.com/event/futbol-block-party/
LOCATION:Exposition Park\, 831 Exposition Ave\, Dallas\, TX\, 75226\, United States
CATEGORIES:Community
ATTACH;FMTTYPE=image/jpeg:https://www.atleticodallas.com/wp-content/uploads/sites/353/2025/11/Block-party-banner.jpeg
END:VEVENT
BEGIN:VEVENT
DTSTART;TZID=America/Chicago:20251213T100000
DTEND;TZID=America/Chicago:20251213T160000
DTSTAMP:20260421T075715
CREATED:20251202T212048Z
LAST-MODIFIED:20251202T212048Z
UID:10000044-1765620000-1765641600@www.atleticodallas.com
SUMMARY:Vanta Soccer Tournament
DESCRIPTION:
URL:https://www.atleticodallas.com/event/vanta-soccer-tournament/
LOCATION:Plaza of The Americas\, 700 N Pearl St\, Dallas\, TX\, United States
CATEGORIES:Community
ATTACH;FMTTYPE=image/webp:https://www.atleticodallas.com/wp-content/uploads/sites/353/2025/12/Dallasholidaytournamentyear11.webp
END:VEVENT
BEGIN:VEVENT
DTSTART;TZID=America/Chicago:20251213T090000
DTEND;TZID=America/Chicago:20251213T110000
DTSTAMP:20260421T075715
CREATED:20251125T174154Z
LAST-MODIFIED:20251125T174154Z
UID:10000042-1765616400-1765623600@www.atleticodallas.com
SUMMARY:Peticolas Social Run
DESCRIPTION:
URL:https://www.atleticodallas.com/event/peticolas-social-run-2/
LOCATION:Peticolas Brewing Company\, 1301 Pace St\, Dallas\, TX\, 75207\, United States
CATEGORIES:Community
ATTACH;FMTTYPE=image/png:https://www.atleticodallas.com/wp-content/uploads/sites/353/2025/11/Screenshot-2025-11-25-at-11.41.06 AM.png
END:VEVENT
BEGIN:VEVENT
DTSTART;TZID=America/Chicago:20251207T120000
DTEND;TZID=America/Chicago:20251207T170000
DTSTAMP:20260421T075715
CREATED:20251125T171704Z
LAST-MODIFIED:20251125T172134Z
UID:10000039-1765108800-1765126800@www.atleticodallas.com
SUMMARY:TIFO Market
DESCRIPTION:About this event\n\n\nWe’re capping off our inaugural season with one last Kit Swap at AddVintage on December 7th from 12-5PM!@peticolas @luvdrunk & @smileysweetsbakery will be providing the drinks and snacks\, and we’ll take care of bringing you the best kits in the city.You already know the vibes; Football\, Culture\, and Community.
URL:https://www.atleticodallas.com/event/tifo-market-2/
LOCATION:AddVintage\, 119 Murray St\, Dallas\, TX\, 75226\, United States
CATEGORIES:Community
ATTACH;FMTTYPE=image/png:https://www.atleticodallas.com/wp-content/uploads/sites/353/2025/11/Screenshot-2025-11-25-at-11.13.10 AM.png
END:VEVENT
BEGIN:VEVENT
DTSTART;TZID=America/Chicago:20251108T190000
DTEND;TZID=America/Chicago:20251108T210000
DTSTAMP:20260421T075715
CREATED:20251113T033830Z
LAST-MODIFIED:20251113T033830Z
UID:10000032-1762628400-1762635600@www.atleticodallas.com
SUMMARY:Vanta Rooftop Grand Opening
DESCRIPTION:
URL:https://www.atleticodallas.com/event/vanta-rooftop-grand-opening/
LOCATION:Plaza of The Americas\, 700 N Pearl St\, Dallas\, TX\, United States
CATEGORIES:Community
END:VEVENT
BEGIN:VEVENT
DTSTART;TZID=America/Chicago:20251108T090000
DTEND;TZID=America/Chicago:20251108T110000
DTSTAMP:20260421T075715
CREATED:20251113T034115Z
LAST-MODIFIED:20251113T034115Z
UID:10000033-1762592400-1762599600@www.atleticodallas.com
SUMMARY:Peticolas Social Run
DESCRIPTION:
URL:https://www.atleticodallas.com/event/peticolas-social-run/
LOCATION:Peticolas Brewing Company\, 1301 Pace St\, Dallas\, TX\, 75207\, United States
CATEGORIES:Community
END:VEVENT
BEGIN:VEVENT
DTSTART;TZID=America/Chicago:20251027T080000
DTEND;TZID=America/Chicago:20251027T170000
DTSTAMP:20260421T075715
CREATED:20251113T035051Z
LAST-MODIFIED:20251113T035051Z
UID:10000035-1761552000-1761584400@www.atleticodallas.com
SUMMARY:El Chiquilin Swing For The Future Golf Tournament
DESCRIPTION:Golf tournament benefiting Los Primos. A 501 (c) (3) non-profit mentoring organization that connects Latino youth with professionals.
URL:https://www.atleticodallas.com/event/el-chiquilin-swing-for-the-future-golf-tournament/
LOCATION:Brookhaven Country Club\, 3333 Golfing Green Dr\, Farmers Branch\, TX\, United States
CATEGORIES:Community
END:VEVENT
END:VCALENDAR