BEGIN:VCALENDAR
VERSION:2.0
PRODID:-//Atlético Dallas - ECPv6.15.17.1//NONSGML v1.0//EN
CALSCALE:GREGORIAN
METHOD:PUBLISH
X-ORIGINAL-URL:https://www.atleticodallas.com
X-WR-CALDESC:Events for Atlético Dallas
REFRESH-INTERVAL;VALUE=DURATION:PT1H
X-Robots-Tag:noindex
X-PUBLISHED-TTL:PT1H
BEGIN:VTIMEZONE
TZID:America/Chicago
BEGIN:DAYLIGHT
TZOFFSETFROM:-0600
TZOFFSETTO:-0500
TZNAME:CDT
DTSTART:20250309T080000
END:DAYLIGHT
BEGIN:STANDARD
TZOFFSETFROM:-0500
TZOFFSETTO:-0600
TZNAME:CST
DTSTART:20251102T070000
END:STANDARD
BEGIN:DAYLIGHT
TZOFFSETFROM:-0600
TZOFFSETTO:-0500
TZNAME:CDT
DTSTART:20260308T080000
END:DAYLIGHT
BEGIN:STANDARD
TZOFFSETFROM:-0500
TZOFFSETTO:-0600
TZNAME:CST
DTSTART:20261101T070000
END:STANDARD
BEGIN:DAYLIGHT
TZOFFSETFROM:-0600
TZOFFSETTO:-0500
TZNAME:CDT
DTSTART:20270314T080000
END:DAYLIGHT
BEGIN:STANDARD
TZOFFSETFROM:-0500
TZOFFSETTO:-0600
TZNAME:CST
DTSTART:20271107T070000
END:STANDARD
END:VTIMEZONE
BEGIN:VEVENT
DTSTART;TZID=America/Chicago:20260224T140000
DTEND;TZID=America/Chicago:20260224T170000
DTSTAMP:20260419T184833
CREATED:20260220T224831Z
LAST-MODIFIED:20260220T224831Z
UID:10000061-1771941600-1771952400@www.atleticodallas.com
SUMMARY:UNT Frisco Spring Career Fair
DESCRIPTION:Come to the UNT Spring 2026 Frisco Career Fair and connect with employers with job opportunities! Registering for the event allows you to see employer information as they sign up so you can prepare and research ahead of time. \n📍 Location: UNT Frisco Landing\, Room 130\n📅 Date: Tuesday\, Feb. 24\, 2026\n⏰ Time: 2:00 PM – 5:00 PM \nBusiness attire is recommended\, and don’t forget to bring several copies of your resume! This is your chance to make connections\, explore opportunities\, and take the next step toward your future. 💼✨
URL:https://www.atleticodallas.com/event/unt-frisco-spring-career-fair/
LOCATION:UNT Frisco\, 12995 Preston Road\, Frisco\, TX\, 75033
CATEGORIES:Careers
ATTACH;FMTTYPE=image/jpeg:https://www.atleticodallas.com/wp-content/uploads/sites/353/2026/02/625002513_1553988559586504_4169702214191263491_n.jpg
ORGANIZER;CN="University of North Texas Career Center":MAILTO:career.center@unt.edu
END:VEVENT
END:VCALENDAR