BEGIN:VCALENDAR
VERSION:2.0
PRODID:-//Atlético Dallas - ECPv6.15.17.1//NONSGML v1.0//EN
CALSCALE:GREGORIAN
METHOD:PUBLISH
X-WR-CALNAME:Atlético Dallas
X-ORIGINAL-URL:https://www.atleticodallas.com
X-WR-CALDESC:Events for Atlético Dallas
REFRESH-INTERVAL;VALUE=DURATION:PT1H
X-Robots-Tag:noindex
X-PUBLISHED-TTL:PT1H
BEGIN:VTIMEZONE
TZID:America/Chicago
BEGIN:DAYLIGHT
TZOFFSETFROM:-0600
TZOFFSETTO:-0500
TZNAME:CDT
DTSTART:20250309T080000
END:DAYLIGHT
BEGIN:STANDARD
TZOFFSETFROM:-0500
TZOFFSETTO:-0600
TZNAME:CST
DTSTART:20251102T070000
END:STANDARD
BEGIN:DAYLIGHT
TZOFFSETFROM:-0600
TZOFFSETTO:-0500
TZNAME:CDT
DTSTART:20260308T080000
END:DAYLIGHT
BEGIN:STANDARD
TZOFFSETFROM:-0500
TZOFFSETTO:-0600
TZNAME:CST
DTSTART:20261101T070000
END:STANDARD
BEGIN:DAYLIGHT
TZOFFSETFROM:-0600
TZOFFSETTO:-0500
TZNAME:CDT
DTSTART:20270314T080000
END:DAYLIGHT
BEGIN:STANDARD
TZOFFSETFROM:-0500
TZOFFSETTO:-0600
TZNAME:CST
DTSTART:20271107T070000
END:STANDARD
END:VTIMEZONE
BEGIN:VEVENT
DTSTART;TZID=America/Chicago:20260203T090000
DTEND;TZID=America/Chicago:20260203T100000
DTSTAMP:20260421T145414
CREATED:20260129T220802Z
LAST-MODIFIED:20260129T220802Z
UID:10000057-1770109200-1770112800@www.atleticodallas.com
SUMMARY:Little Lobos Open Play
DESCRIPTION:Boys & GirlsAges 2 – 5February 3rd | 9:00 AM | FREE​@ Soccer Spectrum1251 Digital Dr\, Richardson\, TX 75081Come join a session and see why little lobos is the right fit for your little player!​Limited spots availableOpen to all players in the community
URL:https://www.atleticodallas.com/event/little-lobos-open-play-5/
LOCATION:Soccer Spectrum\, 1251 Digital Drive\, Richardson\, TX\, 75081\, United States
CATEGORIES:Little Lobos
ATTACH;FMTTYPE=image/avif:https://www.atleticodallas.com/wp-content/uploads/sites/353/2026/01/Little-Lobos-Open-Play.avif
ORGANIZER;CN="Atl%C3%A9tico Dallas Youth":MAILTO:Info@AtleticoDallasYouth.com
END:VEVENT
BEGIN:VEVENT
DTSTART;TZID=America/Chicago:20260203T193000
DTEND;TZID=America/Chicago:20260203T213000
DTSTAMP:20260421T145414
CREATED:20260129T205103Z
LAST-MODIFIED:20260129T205147Z
UID:10000053-1770147000-1770154200@www.atleticodallas.com
SUMMARY:AD2: Reserve Team Tryouts
DESCRIPTION:Now’s your chance to be a part of our new reserve squad\, Atlético Dallas II. \nWe will be hosting tryouts on February 3 and 5 at Moneygram Soccer Park – Field 4 at 7:30PM. We are accepting reservations for those who think they have what it takes to wear our crest on the pitch. \nOur reserve team will be playing in the UPSL\, which is a local semi professional league. \nAfter you submit your registration fee\, you will receive an email to a link to a registration form. All players must fill out this form before the session. \nMinimum age is 17 years old \nFebruary 3 and 5 \nMoneygram Soccer Park: Field 4 \n2200 Walnut Hill Ln\, Dallas\, TX 75229
URL:https://www.atleticodallas.com/event/ad2-reserve-team-tryouts/
LOCATION:MoneyGram Soccer Park\, 2200 Walnut Hill Ln\, Dallas\, TX\, 75229\, United States
ATTACH;FMTTYPE=image/jpeg:https://www.atleticodallas.com/wp-content/uploads/sites/353/2026/01/620073696_122266479212175621_2001492307762160787_n.jpg
END:VEVENT
END:VCALENDAR